BEGIN:VCALENDAR
VERSION:2.0
PRODID:-//hello - ECPv6.13.2.1//NONSGML v1.0//EN
CALSCALE:GREGORIAN
METHOD:PUBLISH
X-WR-CALNAME:hello
X-ORIGINAL-URL:https://helloyrwelcome.com
X-WR-CALDESC:Events for hello
REFRESH-INTERVAL;VALUE=DURATION:PT1H
X-Robots-Tag:noindex
X-PUBLISHED-TTL:PT1H
BEGIN:VTIMEZONE
TZID:UTC
BEGIN:STANDARD
TZOFFSETFROM:+0000
TZOFFSETTO:+0000
TZNAME:UTC
DTSTART:20230101T000000
END:STANDARD
END:VTIMEZONE
BEGIN:VEVENT
DTSTART;VALUE=DATE:20230929
DTEND;VALUE=DATE:20230930
DTSTAMP:20260423T094322
CREATED:20230829T062549Z
LAST-MODIFIED:20230829T062559Z
UID:256-1695945600-1696031999@helloyrwelcome.com
SUMMARY:“Spooky Season” - Apple Cider Donut & David Rio Red Panda Spiced Chai
DESCRIPTION:
URL:https://helloyrwelcome.com/event/spooky-season-apple-cider-donut-david-rio-red-panda-spiced-chai/
END:VEVENT
BEGIN:VEVENT
DTSTART;VALUE=DATE:20230922
DTEND;VALUE=DATE:20230923
DTSTAMP:20260423T094322
CREATED:20230829T062526Z
LAST-MODIFIED:20230829T062526Z
UID:254-1695340800-1695427199@helloyrwelcome.com
SUMMARY:“Isn’t Life Grand?” Strawberry Champagne Donut & Pumpkin Spice Latte
DESCRIPTION: 
URL:https://helloyrwelcome.com/event/isnt-life-grand-strawberry-champagne-donut-pumpkin-spice-latte/
END:VEVENT
BEGIN:VEVENT
DTSTART;VALUE=DATE:20230915
DTEND;VALUE=DATE:20230916
DTSTAMP:20260423T094322
CREATED:20230829T062455Z
LAST-MODIFIED:20230829T062631Z
UID:252-1694736000-1694822399@helloyrwelcome.com
SUMMARY:“Welcome to the Neighborhood” - Doorbell & HYW Blend Coffee (CDA)
DESCRIPTION:
URL:https://helloyrwelcome.com/event/welcome-to-the-neighborhood-doorbell-hyw-blend-coffee-cda/
END:VEVENT
BEGIN:VEVENT
DTSTART;VALUE=DATE:20230908
DTEND;VALUE=DATE:20230909
DTSTAMP:20260423T094322
CREATED:20230829T062429Z
LAST-MODIFIED:20230829T062429Z
UID:250-1694131200-1694217599@helloyrwelcome.com
SUMMARY:“Life’s a Beach” - Ube Toasted Coconut & Iced Matcha Mai Thai
DESCRIPTION:
URL:https://helloyrwelcome.com/event/lifes-a-beach-ube-toasted-coconut-iced-matcha-mai-thai/
END:VEVENT
BEGIN:VEVENT
DTSTART;VALUE=DATE:20230901
DTEND;VALUE=DATE:20230902
DTSTAMP:20260423T094322
CREATED:20230829T062350Z
LAST-MODIFIED:20230829T062350Z
UID:248-1693526400-1693612799@helloyrwelcome.com
SUMMARY:“Juicy Couture” Blueberry Donut & Coast to Coast Cold Brew
DESCRIPTION:
URL:https://helloyrwelcome.com/event/juicy-couture-blueberry-donut-coast-to-coast-cold-brew/
END:VEVENT
END:VCALENDAR